BEGIN:VCALENDAR
VERSION:2.0
PRODID:-//ICRG - International Center for Responsible Gaming - ECPv6.15.15//NONSGML v1.0//EN
CALSCALE:GREGORIAN
METHOD:PUBLISH
X-WR-CALNAME:ICRG - International Center for Responsible Gaming
X-ORIGINAL-URL:https://www.icrg.org
X-WR-CALDESC:Events for ICRG - International Center for Responsible Gaming
REFRESH-INTERVAL;VALUE=DURATION:PT1H
X-Robots-Tag:noindex
X-PUBLISHED-TTL:PT1H
BEGIN:VTIMEZONE
TZID:UTC
BEGIN:STANDARD
TZOFFSETFROM:+0000
TZOFFSETTO:+0000
TZNAME:UTC
DTSTART:20220101T000000
END:STANDARD
END:VTIMEZONE
BEGIN:VEVENT
DTSTART;TZID=UTC:20240222T140000
DTEND;TZID=UTC:20240222T153000
DTSTAMP:20260424T020829
CREATED:20240328T130643Z
LAST-MODIFIED:20240703T011011Z
UID:3435-1708610400-1708615800@www.icrg.org
SUMMARY:The Gamblers of the Future? Migration from Video Games to Gambling among Young Adults
DESCRIPTION:1.5 Continuing Education Hours \nPresenter:\nLuke Clark\, PhD\, University of British Columbia\n‍\nIn video games\, a loot box is a consumable virtual item which can be redeemed. Studies have shown a link between loot box engagement and gambling problems. However\, the causal connections are unknown. Dr. Clark will report on his longitudinal research that traced the migration from video games to gambling. \nThe ICRG is approved by NBCC and NAADAC to offer continuing education for counselors. In addition\, the ICRG is approved by the American Psychological Association to sponsor continuing education for psychologists. The ICRG maintains responsibility for this program and its content. \nThank you for attending!
URL:https://www.icrg.org/event/the-gamblers-of-the-future-migration-from-video-games-to-gambling-among-young-adults/
LOCATION:Online\, Zoom
CATEGORIES:Webinars
ATTACH;FMTTYPE=image/png:https://www.icrg.org/wp-content/uploads/2024/03/The-Gamblers-of-the-Future-Migration-from-Video-Games-to-Gambling-among-Young-Adults.png
END:VEVENT
BEGIN:VEVENT
DTSTART;VALUE=DATE:20231110
DTEND;VALUE=DATE:20231111
DTSTAMP:20260424T020829
CREATED:20240201T081458Z
LAST-MODIFIED:20240504T032005Z
UID:444-1699574400-1699660799@www.icrg.org
SUMMARY:Hardrock Workshop
DESCRIPTION:Last week\, ICRG hosted a Gambling Addiction Conference at the Seminole Hard Rock Hotel & Casino in Hollywood\, FL\, providing training for treatment providers. Grateful to Seminole Hard Rock Hotel & Casino for partnering with us! \nConference Agenda 2023 \nPhoto from left to right: Paul Pellizzari\, Vice President\, Global Social Responsibility at Hard Rock and Dr. James Whelan \nPhoto from left to right: Our speakers Jay Robinson\, Rory Pfund\, Bruce Leise\, James Whelan\, and ICRG’s Nicole Scott
URL:https://www.icrg.org/event/hardrock-workshop/
LOCATION:Seminole Hard Rock Hotel & Casino\, 1 Seminole Way\, Hollywood\, FL\, 33314\, United States
CATEGORIES:Conference,Workshop
ATTACH;FMTTYPE=image/jpeg:https://www.icrg.org/wp-content/uploads/2024/02/Hardrock-Workshop-02.jpg
END:VEVENT
BEGIN:VEVENT
DTSTART;VALUE=DATE:20231008
DTEND;VALUE=DATE:20231010
DTSTAMP:20260424T020829
CREATED:20240201T081026Z
LAST-MODIFIED:20240504T032507Z
UID:438-1696723200-1696895999@www.icrg.org
SUMMARY:24th ICRG Conference on Gambling and Addiction
DESCRIPTION:Brochure\nThe ICRG Conference on Gambling and Addiction brochure contains a full schedule\, information on registration and fees\, a list of agencies that have approved the conference for continuing education hours or CLE’s\, a list of speakers\, instructions for submitting poster abstracts and scholarship applications and our generous sponsors. \n24th-ICRG-Conference-on-Gambling-and-Addiction PDF Brochure \nSchedule and Learning Objectives\nNote that the following schedule includes learning objectives for each session. \nSUNDAY\, OCTOBER 8\, 2023 \n8 a.m. – 5 p.m. Registration \n10 a.m. – NoonPre-Con workshop for Treatment Providers: Mindfulness-Based Relapse Prevention for Gambling Problems \nShane Kraus\, PhD\, Assistant Professor of Psychology\, University of Nevada\, Las Vegas \nMindfulness-based relapse prevention (MBRP) is a form of treatment for addiction that focuses on the period after treatment when individuals are most likely to relapse. MBRP applies the concept of mindfulness to the management of urges that can derail sobriety or maintain moderation. Dr. Kraus\, both a researcher and a clinician\, will lead this workshop in an exploration of the utility of MBRP for clients with a gambling disorder. \nLearning objectives – As a result of the program\, attendees will be able to: \n• Learn how to teach mindfulness to clients. \n• Apply Mindfulness-based relapse prevention in their practice. \nPre-Con Workshop for Treatment Providers: Congruence Couple Therapy for Gambling Disorder \nSpeaker Bonnie Lee\, PhD\, Professor in the Addictions Counselling Program and Research Affiliate\, University of Lethbridge \nIdentifying mechanisms of change in psychotherapeutic treatment models has significant implications for addictive disorders. Dr. Lee will discuss her research showing that Congruence Couple Therapy can have better outcomes than individual-based therapies for clients with gambling problems. \nLearning objectives –As a result of the program\, attendees will be able to: \n• Identify mechanisms of change in psychotherapeutic treatment \n• Describe the principles of Congruence Couple Therapy. \n• Apply Congruence Couple Therapy in practice. \n1 p.m. Welcome \n1:15 – 2:15 p.m. The Institutional Bias Against People with Gambling Disorder \nSpeaker: Stacey Tovino\, JD\, PhD\, William J. Alley Professor of Law\, The University of Oklahoma College of Law \nModerator: Alan Feldman\, International Gaming Institute\, University of Nevada\, Las Vegas \nDespite the reclassification of gambling disorder as an addictive disorder by the American Psychiatric Association in 2013\, health insurers continue to exclude gambling disorder treatment from insurance coverage. Furthermore\, federal and state disability non-discrimination laws uniformly exclude gambling disorder from the definition of disability. Dr. Tovino will detail her findings on this disturbing situation and propose how the gambling community can rectify this situation. \nLearning objectives –As a result of the program\, attendees will be able to: \n• Identify biases in health care law that prevent people with gambling disorder from accessing help. \n• Describe the argument for treating gambling disorder the same as other addictive disorders. \n• Formulate strategies for addressing this problem. \n2:30 – 3:30 p.m.Ask Me Anything! Voices of Recovery from Gambling Disorder \nTed Hartwell\, Executive Director\, Nevada Council on Problem Gambling; Ed Talbot\, Executive Director\, New Hampshire Council on Problem Gambling; Michelle Malkin\, PhD\, JD\, Assistant Professor\, East Carolina University\, Kathy Scanlan\, International Center for Responsible Gaming (moderator) \nWhat is the experience of individuals who recover from gambling disorder? This free-wheeling session will allow audience members to set the agenda! \nLearning objectives –As a result of the program\, attendees will be able to: \n• Describe the varied experiences of recovery from gambling disorder. \n• Apply knowledge of the recovery experience to clinical practice\, research or responsible gambling policies. \n3:30 – 3:50 p.m.Refreshment Break \n3:50 — 4:50 pm.Does Responsible Gambling Work? New Research on Pre-commitment \nSpeaker: Michael J.A. Wohl\, PhD\, Professor\, Carleton University \nModerator: Cait DeBaun\, American Gaming Association \nDoes pre-commitment—a responsible gambling strategy that allows the gambler to set spending and time limits before gambling—help reduce gambling problems? Dr. Wohl’s ICRG-funded research explored the uptake and effectiveness of the PlayMyWay program. \nLearning objectives –As a result of the program\, attendees will be able to: \n• Describe the rationale behind pre-commitment as responsible gambling strategy. \n• Critically analyze the research on pre-commitment. \n• Incorporate findings into prevention programs. \n5 – 6 p.m. Optimizing responsible gaming programs: Using the Positive Play approach to measure responsible play\, identify program success\, and pinpoint areas for improvement \nThe presentation will describe the research results involving the Positive Play Scale (PPS) as well as the early development of the PPS Lottery scale. The presentation will also describe the development and initial research results of the Positive Play Quiz. \nSpeaker: Nassim Tabri\, PhD\, Carleton University \nModerator: Kate Carlson\, Director of CSR & Compliance\, Hoosier Lottery \nLearning objectives –As a result of the program\, attendees will be able to: \n• Describe the principles of Positive Play. \n• Critically analyze research on Positive Play. \n• Incorporate insights into responsible gambling programs. \n6:15 – 8 p.m.Reception and Poster Session \n‍ \nMONDAY\, OCTOBER 9\, 2023 \n7 – 8 a.m. OPEN AA/GA MEETING \nAll are welcome to this open meeting. \nNETWORKING BREAKFAST FOR ALL ATTENDEES \n8 – 9 a.m.The Gamblers of the Future? Migration from Video Games to Gambling among Young Adults \nSpeaker: Luke Clark\, PhD\, Professor of Psychology\, University of British Columbia \nModerator: Martin Lycka\, SVP American Regulatory Affairs & Responsible Gambling\, Entain \nIn video games\, a loot box is a consumable virtual item which can be redeemed. Studies have shown a link between loot box engagement and gambling problems. However\, the causal connections are unknown. Dr. Clark will report on his longitudinal research that traced the migration from video games to gambling. \nLearning objectives –As a result of the program\, attendees will be able to: \n• Learn the difference between causation\, correlation and association in research studies. \n• Describe the similarities and differences between loot boxes and gambling. \n• Consider how prevention programs can be developed to address this problem. \n9:15 – 10:15 a.m.Adolescents and the Lottery \nSpeaker: Zu Wei Zhai\, PhD\, Assistant Professor\, Program in Neuroscience\, Middlebury College \nModerator: Connie Jones\, Director of Responsible Gaming\, AGEM \nLottery-purchasing is prevalent among adolescents. A study found that lottery-purchasing by this demographic is linked to later gambling problems. Dr. Zhai will report on this research and propose ways to address this problem. \nLearning objectives –As a result of the program\, attendees will be able to: \n• Describe the prevalence of adolescent gambling on the lottery. \n• Critically assess research on lottery play by adolescents. \n• Consider which findings can be applied to new prevention and responsible gambling programs. \n10:15 – 10:40 a.m.Refreshment Break \n10:45 –11:45 a.m.Gambling Disorder and Stigma: Opportunities for Treatment and Prevention \nLeanne Quigley\, PhD\, Assistant Professor of Psychology\, Yeshiva University \nWe all know that people with gambling problems and addiction face stigma in today’s society.  But what is the real-life impact of stigma and how can we change such attitudes? Dr. Quigley will do a deep dive\, reporting on her research on the impact of stigma on treatment\, recovery and public health policies focused on people with gambling disorder. \nLearning objectives –As a result of the program\, attendees will be able to: \n• Assess the damage caused by stigma against people with gambling disorder. \n• Apply findings to reform existing recovery and public health policies. \nNoon – 1 p.m.Awards Luncheon \nConcurrent Special Interest Tracks \nTrack for Clinicians\, Researchers and Public Health Professionals \n1 – 2 p.m.Integrative Cultural Healing Model \nSpeaker: Martina Whelshula\, PhD\, Arrow Lakes Nation of the Colville Confederated Tribes in Washington State \nModerator: Katherine Spilde\, PhD\, MBA\, Endowed Chair\, Sycuan Institute on Tribal Gaming and Professor\, L. Robert Payne School of Hospitality & Tourism Management\, San Diego State University; Member of ICRG Board \nDr. Whelshula has worked extensively with Native American communities nationwide on local and national policy development\, education and behavioral health. Her most recent work is the development of an integrative cultural treatment model to address trauma\, mental health\, and substance use disorders for tribes. \nLearning objectives –As a result of the program\, attendees will be able to: \n• Critically assess the need for culture-based approaches to trauma\, mental health and addiction among members of Tribal nations. \n• Apply principles of an integrative cultural treatment model in clinical practice. \nTrack for Industry Professionals and Regulators \n1-2 p.m.Cashless Gambling: Exploring Health Risks and Empowering Consumer Protection \nLuke Clark\, PhD.\, Professor of Psychology\, University of British Columbia \nKasra Ghaharian\, PhD\, Postdoctoral Research Fellow\,University of Nevada\, Las Vegas \nModerator: Omer Sattar\, Co-Founder and Co-CEO of Sightline Payments \nThe evolution of payment technologies has raised questions about the health impact on customers who might be having problems with their gambling. This session will feature some of the newest research on “cashless gambling.” \nLearning objectives –As a result of the program\, attendees will be able to: \n• Describe the current state of digital payments in the gambling environment. \n• Critically assess the research currently being done on the impact of digital payments in gambling establishments. \n• Apply findings to improve responsible gambling strategies. \nTrack for Clinicians\, Researchers and Public Health Professionals \n2:10 – 3:10 p.m. Lightning Talks: Recovery from Gambling Disorder: What we know and what we don’t know \n● Samuel Peter\, PhD.\, Durham VA \n● David Hodgins\, PhD\, University of Calgary \n● Shane Kraus\, PhD\, University of Nevada\, Las Vegas \n● Ted Hartwell\, Nevada Council on Problem Gambling \n● Rory Pfund\, PhD\, University of Memphis \nModerator: Christine Reilly\, International Center for Responsible Gaming \nThere is no standard treatment for or road to recovery from gambling disorder. The panel will deliver brief reports on where we stand with research on various approaches such as mindfulness\, CBT\, brief interventions\, contingency management\, and Gamblers Anonymous. \nLearning objectives –As a result of the program\, attendees will be able to: \n• Discover the current status of research on various treatments and other pathways to recovery from gambling disorder. \n• Describe why research on treating people with gambling disorder is difficult to conduct. \n• Apply insights about various treatments to clinical practice. \nTrack for Industry Professionals and Regulators \n2:10 – 3:10 p.m. Lightning Talks: Can we improve responsible gambling messaging? \nSpeakers: Michael Wohl\, PhD\, Carelton University; Brett L.Abarbanel\, PhD\, International Gaming Institute\, UNLV\, Garrett Farnes\, MGM Resorts International; Gloria Miele\, PhD\, UCLA; Deirdre Querney\, MSW\, Hamilton Alcohol\, Drug & Gambling Services; Peter Cohen\, The Agenda Group (moderator) \nLow usage of responsible gambling (RG) programs has led many to wonder if the messaging is to blame. The panel will deliver brief reports on what the research tells us and ideas for improving language in RG programs. \nLearning objectives –As a result of the program\, attendees will be able to: \n• Describe the concerns of researchers\, treatment providers and responsible gambling specialists about the potentially stigmatizing language of responsible gambling. \n• Translate what we know about de-stigmatizing addiction treatment language to responsible gambling messaging. \n3:10 – 3:30 p.m.Refreshment Break \n‍ \n3:30 – 4:30 p.m.Plenary Session: Trajectories of Sports Wagering Over Time \nSpeaker: Joshua Grubbs\, PhD\, Associate Professor\, University of New Mexico \nModerator: Michael Soll\, The Innovation Group \nWhat are the latest findings from this ICRG-funded national survey of  sports wagering? Join Dr. Grubbs for an exploration of sports gamblers in the U.S. and their potential health risks. \nLearning Objectives — As a result of the program\, attendees will be able to: \n• Differentiate between the different types of sports wagering available in the U.S. as of 2023 \n• Describe the demographic and socioeconomic predictors of sports wagering behaviors. \nPlenary Session: \n4:45 – 6:15 p.m. Trends Shaping the Future of Responsible Gaming \nSpeaker: Jeremiah Weinstock\, PhD\, Professor\, Clinical Program and Department Chair\, Saint Louis University \nModerator: Alan Feldman\, UNLV \nHow will technology shape tomorrow’s prevention and interventions for gambling problems? Dr. Weinstock will reflect on his own work with an mHealth app and other developments he sees on the horizon. \nLearning Objectives – As a result of the program\, attendees will be able to: \n• Describe the various ways in which technology is being used in mental health care and prevention. \n• Critically assess the type of research that must be done to evaluate new technology-based interventions and responsible gambling programs. \n• Describe the pros and cons of AI in treatment and prevention. \nContinuing Education\nUPDATE as of October 26\, 2023: We are waiting for the final registration/scanned badges list so that we can email attendees a link to SurveyMonkey. Please note that attendees must complete the evaluation on SurveyMonkey in order to receive a CE certificate. Questions? Contact Noelle Mancini (nmancini@icrg.org). \n‍ \nConference attendees can earn up to 13.50 continuing education hours approved by healthcare and legal certifying agencies. \n2 Hours\nPre-Con Workshop for Treatment Providers: \n\nMindfulness-Based Relapse Prevention for Gambling Problems; or\nCongruence Couple Therapy for Gambling Disorder\n\n11.50 Hours\nSessions held Sunday afternoon through Monday afternoon. \nAgencies that have approved ICRG as a CE Provider\n\nThe International Center for Responsible Gaming is approved by NAADAC\, the Association for Addiction Professionals\, to offer continuing education (Provider # 100793)\n• The International Center for Responsible Gaming is approved by NBCC\, National Board of Certified Counselors\, as an Approved Continuing Education Provider\, ACEP No. 6474. Programs that do not qualify for NBCC credit are clearly identified. The ICRG is solely responsible for all aspects of the programs.\n• The International Center for Responsible Gaming (ICRG) is approved by the American Psychological Association to sponsor continuing education for psychologists. The ICRG maintains responsibility for this program and its content\n\nSingle Program Approval\n\nThe IGCCB has approved the ICRG Conference for 13.25 hours (C-0-115).\nThe Nevada Board of Continuing Legal Education has approved the ICRG Conference for 13 credits.\nThis program is approved by the National Association of Social Workers (Approval # 886911286-4174) for 13.5 continuing education contact hours.\nThe Pennsylvania CLE Board has approved the conference for 13.5 CLEs.\nThe State of Nevada Board of Examiners for Alcohol\, Drug and Gambling Counselors has approved the ICRG Conference for 13.5 hours (Approval code: 2023-0728)\n\nThe ICRG also is seeking single program approval of the conference from the following organizations\, most of which have approved CE hours offered by previous ICRG conferences and webinars: Canadian Problem Gambling Certification Board\,  the Nevada Board of Examiners for Social Workers\, and the Nevada Certification Board. \n(Please contact Christine Reilly at creilly@icrg.org if you wish to receive CLEs from other jurisdictions.\nVisit icrg.org/events to get updates on CE and CLE approvals.) \nSpeakers\nBrett L. Abarbanel\, PhD\, Executive Director\, International Gaming Institute\, University of Nevada\, Las Vegas \nLuke Clark\, PhD\, Professor of Psychology\, University of British Columbia \nGarrett Farnes\, Director of Responsible Gaming\, MGM Resorts International \nAlan Feldman\, Distinguished Fellow in Responsible Gaming\, University of Nevada\, Las Vegas\, and Chair Emeritus\, ICRG \nKasra Ghaharian\, PhD\, Postdoctoral Research Fellow\, University of Nevada\, Las Vegas \nJoshua Grubbs\, PhD\, Associate Professor\, University of New Mexico \nTed Hartwell\, Executive Director\, Nevada Council on Problem Gambling \nDavid Hodgins\, PhD\, Professor\, Department of Psychology\, University of Calgary \nShane Kraus\, PhD\, Assistant Professor of Psychology\, University of Nevada\, Las Vegas \nBonnie Lee\, PhD\, Professor in the Addictions Counseling Program and Research Affiliate\, University of Lethbridge \nMark Lipparelli\, Chairman\, ICRG \nMichelle Malkin\, PhD\, JD\, Assistant Professor\, East Carolina University \nArthur Paikowsky\, President\, ICRG \nSamuel Peter\, PhD\, Clinical Staff Psychologist\, Durham VA Health Care System \nRory Pfund\, PhD\, Research Assistant Professor\, Department of Psychology\, University of Memphis \nLeanne Quigley\, PhD\, Assistant Professor of Psychology\, Yeshiva University \nNassim Tabri\, Ph.D.\, Associate Professor\, Department of Psychology\, Carleton University \nEd Talbot\, Executive Director\, New Hampshire Council on Problem Gambling \nStacey Tovino\, JD\, PhD\, William J. Alley Professor of Law\, The University of Oklahoma College of Law \nJeremiah Weinstock\, PhD\, Professor\, Clinical Program and Department Chair\, Saint Louis University \nMartina Whelshula\, PhD\, Arrow Lakes Nation of the Colville Confederated Tribes in Washington State \nMichael J.A. Wohl\, PhD\, Professor\, Carleton University \nZu Wei Zhai\, PhD\, Assistant Professor\, Program in Neuroscience\, Middlebury College \nSponsors\n \nUnderwriter: The Venetian Las Vegas\nElite: Chickasaw Nation and Konami\nExclusive: DraftKings\nPremier: Cherokee Nation Entertainment\, IGT\, Sands\, and The Innovation Group\nStrategic: Entain\, Everi\, Interblock Gaming\, Light & Wonder\, MGM Resorts International\, and Potawatomi Hotel & Casino\nAdvocate: Caesars Entertainment\, Rush Street Interactive\, and Wondr Nation\nHonor Roll: Paragon Gaming and Q Casino\n  \nTHANK YOU TO OUR SPONSORS!!!\nThere are still opportunities for your organization to join these generous companies demonstrating their support for responsible gambling by serving as a sponsor of the ICRG Conference on Gambling and Addiction. Current sponsors are listed in the conference brochure. Please contact Joshua Belkin at jbelkin@icrg.org for more information \nFees & Registration\n\n\n\n‍ \nFor help with registration\, contact Keli Elkins (kelkins@icrg.org) or Christine Reilly (creilly@icrg.org) \n\nPoster Session\nAbstracts Due August 15\, 2023\nThe ICRG showcases new research on gambling disorder and responsible gambling during a poster session and reception held at the ICRG Conference. This event is an opportunity for investigators to report on their empirical research and discuss their findings with conference attendees. Each year\, a committee selects the recipients of the Outstanding Poster Award and honorable mention. \nSUBJECT MATTER\nPosters can focus on any aspects of gambling disorder and responsible gambling and must report on empirical research. Abstracts will be reviewed for scientific merit. \nSUBMISSION GUIDELINES\n‍\nAbstracts should be submitted electronically in MS Word® or another word processing software using a font size no smaller than 12 pt. PDFs will not be accepted. Please include the following information: \n• Title of Presentation\n• Name(s) and affiliation(s) of the author(s)\n• Email address of the first author\n• Poster abstract (no more than 500 words). Please follow APA format for text and references. The abstract should address the following:\n• Sample and methods\n• Preliminary findings\n• Implications for the field\n• Digital signature of first author certifying that any work with human or animal subjects in the abstract complies with the guiding policies and principles for experimental procedures of the World Medical Association of Helsinki. \nBy submitting a poster\, at least one author must agree to attend the conference and to participate in the poster session on October 8. No individual can be first author on more than one submission. \nAbstracts will be accepted on a rolling basis until Aug. 15\, 2023. Send the abstract to Christine Reilly at creilly@icrg.org. For more information or questions\, call 978-338-6610.
URL:https://www.icrg.org/event/24th-icrg-conference-on-gambling-and-addiction/
LOCATION:Venetian Expo & Convention Center\, 201 Sands Ave\, Las Vegas\, NV\, 89169\, United States
CATEGORIES:Conference
ATTACH;FMTTYPE=image/jpeg:https://www.icrg.org/wp-content/uploads/2024/02/ICRG-Conference-on-Gambling-and-Addiction-Sponsors.jpg
END:VEVENT
BEGIN:VEVENT
DTSTART;TZID=UTC:20230627T140000
DTEND;TZID=UTC:20230627T153000
DTSTAMP:20260424T020829
CREATED:20240328T131916Z
LAST-MODIFIED:20240703T030438Z
UID:3439-1687874400-1687879800@www.icrg.org
SUMMARY:Open Science in Gambling Research
DESCRIPTION:Every year the ICRG offers webinars on the latest research on gambling disorder and responsible gambling.  Treatment providers can earn continuing education hours approved by various agencies. Best of all\, the webinars are free—thanks to the generosity of the American Gaming Association and Global Gaming Expo! \nNext Webinar:\nJune 27\, 2023\n2-3:30 p.m. Eastern‍ \n‍\nOpen Science in Gambling Research.                                           ‍\nOpen Science (OS) is the movement to make scientific research\, data and their\ndissemination available to any member of an inquiring society\, from professionals to citizens. OS is especially important in cases of gambling industry-funded research on gambling disorder and responsible gambling to ensure that the research process is ethical\, transparent\, and unbiased.\nThe panel will first discuss OS strategies and then explore how OS principles and practices can be integrated with existing guidelines for industry-funded research on gambling disorder and responsible gambling.‍ \nPanel: \n\nDebi LaPlante\, PhD\, Harvard Medical School and Cambridge Health Alliance\nBrett Abarbanel\, PhD University of Nevada\, Las Vegas\nDavid Mellor\, PhD\, Center for Open Science\n\nLearning Objectives: \nAs a result of this program\, learners will be able to: \n\nApply the principles of OS to research on gambling\nCritically analyze any bias in industry-funded research\n\nClick here to register and watch the webinar.
URL:https://www.icrg.org/event/open-science-in-gambling-research/
LOCATION:Online\, Zoom
CATEGORIES:Webinars
ATTACH;FMTTYPE=image/jpeg:https://www.icrg.org/wp-content/uploads/2024/01/icrg-webinars.jpg
END:VEVENT
END:VCALENDAR